BEGIN:VCALENDAR
VERSION:2.0
PRODID:-//Tukios.com/
BEGIN:VEVENT
UID:938feb8b-ef10-4916-b663-97e7af208083@www.paradisefuneralchapel.com
DTSTAMP:20260424T000757Z
DTSTART:20260501T160000Z
DTEND:20260501T170000Z
SUMMARY:Celebration of Life
DESCRIPTION:
URL:https://www.paradisefuneralchapel.com/obituaries/paul-garrett
LOCATION: 2645 West Holmes Road  Lansing MI 48911
GEO:42.6963363;-84.5870914
END:VEVENT
END:VCALENDAR