BEGIN:VCALENDAR
VERSION:2.0
PRODID:-//Tukios.com/
BEGIN:VEVENT
UID:fd3f3cce-1f44-4f9d-8266-492fb5555a12@www.paradisefuneralchapel.com
DTSTAMP:20260424T000757Z
DTSTART:20260501T150000Z
DTEND:20260501T160000Z
SUMMARY:Visitation with Family
DESCRIPTION:
URL:https://www.paradisefuneralchapel.com/obituaries/paul-garrett
LOCATION: 2645 West Holmes Road  Lansing MI 48911
GEO:42.6963363;-84.5870914
END:VEVENT
END:VCALENDAR